BEGIN:VCALENDAR
VERSION:2.0
PRODID:-//Downtown Sioux Falls - ECPv6.15.16//NONSGML v1.0//EN
CALSCALE:GREGORIAN
METHOD:PUBLISH
X-WR-CALNAME:Downtown Sioux Falls
X-ORIGINAL-URL:https://dtsf.com
X-WR-CALDESC:Events for Downtown Sioux Falls
REFRESH-INTERVAL;VALUE=DURATION:PT1H
X-Robots-Tag:noindex
X-PUBLISHED-TTL:PT1H
BEGIN:VTIMEZONE
TZID:UTC
BEGIN:STANDARD
TZOFFSETFROM:+0000
TZOFFSETTO:+0000
TZNAME:UTC
DTSTART:20250101T000000
END:STANDARD
END:VTIMEZONE
BEGIN:VTIMEZONE
TZID:America/Chicago
BEGIN:DAYLIGHT
TZOFFSETFROM:-0600
TZOFFSETTO:-0500
TZNAME:CDT
DTSTART:20250309T080000
END:DAYLIGHT
BEGIN:STANDARD
TZOFFSETFROM:-0500
TZOFFSETTO:-0600
TZNAME:CST
DTSTART:20251102T070000
END:STANDARD
BEGIN:DAYLIGHT
TZOFFSETFROM:-0600
TZOFFSETTO:-0500
TZNAME:CDT
DTSTART:20260308T080000
END:DAYLIGHT
BEGIN:STANDARD
TZOFFSETFROM:-0500
TZOFFSETTO:-0600
TZNAME:CST
DTSTART:20261101T070000
END:STANDARD
BEGIN:DAYLIGHT
TZOFFSETFROM:-0600
TZOFFSETTO:-0500
TZNAME:CDT
DTSTART:20270314T080000
END:DAYLIGHT
BEGIN:STANDARD
TZOFFSETFROM:-0500
TZOFFSETTO:-0600
TZNAME:CST
DTSTART:20271107T070000
END:STANDARD
END:VTIMEZONE
BEGIN:VEVENT
DTSTART;VALUE=DATE:20260409
DTEND;VALUE=DATE:20260424
DTSTAMP:20260424T032714
CREATED:20250805T194355Z
LAST-MODIFIED:20260408T212514Z
UID:10004126-1775692800-1776988799@dtsf.com
SUMMARY:Downtown Sioux Falls Restaurant Week 2026
DESCRIPTION:Downtown Sioux Falls Restaurant Week\nApril 9-23rd\, 2026\nExperience the best of Downtown Sioux Falls’ culinary scene! From April 9-23\, participating restaurants will feature exclusive\, chef-crafted dishes designed just for this event. \nView Event Details
URL:https://dtsf.com/event/downtown-sioux-falls-restaurant-week-2026/
LOCATION:Downtown Sioux Falls\, Sioux Falls\, SD\, 57104\, United States
CATEGORIES:DTSF Signature Event,Food & Drink
ATTACH;FMTTYPE=image/webp:https://dtsf.com/wp-content/uploads/2026/03/Restaurant-Week_2026_Event-Page.webp
ORGANIZER;CN="Downtown Sioux Falls Inc.":MAILTO:info@dtsf.com
END:VEVENT
BEGIN:VEVENT
DTSTART;TZID=America/Chicago:20260422T160000
DTEND;TZID=America/Chicago:20260422T190000
DTSTAMP:20260424T032714
CREATED:20260324T145417Z
LAST-MODIFIED:20260324T145417Z
UID:10006005-1776873600-1776884400@dtsf.com
SUMMARY:Earth Day Farmer's Market at Pomegranate Market!
DESCRIPTION:Pomegranate Downtown location is hosting a farmer’s market on Wednesday\, April 22nd\, in celebration of Earth Day! \nJoin us downtown at Cherapa on Reid Place\, from 4PM to 7PM for: \n\n20+ local vendors\nactivities for kids\nmusic!
URL:https://dtsf.com/event/earth-day-farmers-market-at-pomegranate-market/
LOCATION:SD
CATEGORIES:Free Fun,Outdoors,Shopping
ATTACH;FMTTYPE=image/jpeg:https://dtsf.com/wp-content/uploads/2026/03/Earth-Day-Farmers-Market-22x28-1.jpg
END:VEVENT
BEGIN:VEVENT
DTSTART;TZID=America/Chicago:20260422T160000
DTEND;TZID=America/Chicago:20260422T190000
DTSTAMP:20260424T032714
CREATED:20260407T212832Z
LAST-MODIFIED:20260407T212832Z
UID:10006035-1776873600-1776884400@dtsf.com
SUMMARY:$5.00 Community Dinner
DESCRIPTION:Every Wednesday\, Sioux Falls Food Co+op serves a simple but delicious meal for just $5.00. \nServed 4pm-7pm or while supplies last. \nAll are welcome all of the time – you do not have to be a member/owner to shop with us! \nSioux Falls Food Co+op \n410 W 18th St
URL:https://dtsf.com/event/5-00-community-dinner-2/
LOCATION:Sioux Falls Food Co+op\, 410 West 18th Street\, Sioux Falls\, SD\, 57104\, United States
CATEGORIES:Food & Drink
ATTACH;FMTTYPE=image/jpeg:https://dtsf.com/wp-content/uploads/2026/04/CommunityDinnersFullPage7_25.pdf-2.jpg
GEO:43.5370143;-96.7321813
X-APPLE-STRUCTURED-LOCATION;VALUE=URI;X-ADDRESS=Sioux Falls Food Co+op 410 West 18th Street Sioux Falls SD 57104 United States;X-APPLE-RADIUS=500;X-TITLE=410 West 18th Street:geo:-96.7321813,43.5370143
END:VEVENT
BEGIN:VEVENT
DTSTART;TZID=America/Chicago:20260422T173000
DTEND;TZID=America/Chicago:20260422T210000
DTSTAMP:20260424T032714
CREATED:20260318T164013Z
LAST-MODIFIED:20260318T164013Z
UID:10005995-1776879000-1776891600@dtsf.com
SUMMARY:Banff Mountain Film Festival World Tour - Night 2
DESCRIPTION:Great Outdoor Store is hosting the Banff Centre Mountain Film Festival World Tour\, bringing some of the most inspiring and thought-provoking action\, environmental and adventure mountain films right here to Sioux Falls\, South Dakota. This exhilarating and provocative exploration of the mountain world features films from the highest peaks and other far-flung corners of the world\, as well as adrenaline-packed action sports presented over two nights this year. \nThe 2026 Banff Mountain Film Festival is scheduled to take place Tuesday and Wednesday\, April 21st and 22nd\, 2026 at the State Theatre. \nDoors will open at 5:30pm with films set to start at 6:30pm. \nAll proceeds from this event support Falls Area SingleTrack in protecting\, creating\, and enhancing the trail experience for mountain bikers in the Sioux Falls area.
URL:https://dtsf.com/event/banff-mountain-film-festival-world-tour-night-2/
LOCATION:Sioux Falls State Theatre Company\, 316 South Phillips Avenue\, PO Box 481\, Sioux Falls\, SD\, 57104\, United States
CATEGORIES:Art & Culture,Outdoors
ATTACH;FMTTYPE=image/jpeg:https://dtsf.com/wp-content/uploads/2026/03/Tickets-on-sale-now-GOS-1.jpg
ORGANIZER;CN="The Great Outdoor Store":MAILTO:Deann@greatoutdoorstoreonline.com
GEO:43.5441158;-96.7263267
X-APPLE-STRUCTURED-LOCATION;VALUE=URI;X-ADDRESS=Sioux Falls State Theatre Company 316 South Phillips Avenue PO Box 481 Sioux Falls SD 57104 United States;X-APPLE-RADIUS=500;X-TITLE=316 South Phillips Avenue\, PO Box 481:geo:-96.7263267,43.5441158
END:VEVENT
BEGIN:VEVENT
DTSTART;TZID=America/Chicago:20260422T180000
DTEND;TZID=America/Chicago:20260422T200000
DTSTAMP:20260424T032714
CREATED:20260309T141010Z
LAST-MODIFIED:20260309T141010Z
UID:10005963-1776880800-1776888000@dtsf.com
SUMMARY:A Night in France
DESCRIPTION:Transport yourself to the French countryside for an evening of classic techniques\, rich flavors\, and chef-guided inspiration. In this demonstration-style class\, Chef April Johnson will walk you through the artistry behind a beautifully composed french meal – showcasing foundational methods\, thoughtful ingredient pairing\, and the timeless elegance that defines this beloved cuisine. \nAppetizer | Mushroom Galette\nEntrée | Walleye Meuniere with Green Bean Almandine and Glazed Carrots\nDessert | Chocolate Tart with Vanilla Bean Whipped Cream
URL:https://dtsf.com/event/a-night-in-france-4/
LOCATION:SD
CATEGORIES:Food & Drink
ATTACH;FMTTYPE=image/jpeg:https://dtsf.com/wp-content/uploads/2026/03/A-Night-in-France-4-22-26.jpg
END:VEVENT
END:VCALENDAR